BEGIN:VCALENDAR
VERSION:2.0
PRODID:EVENTFROG//EVENT//ICAL
BEGIN:VEVENT
UID:20260422T182829Z-7443314446355681464@eventfrog.at
DTSTAMP:20260422T182829Z
DTSTART:20260531T150000Z
DTEND:20260531T190000Z
SUMMARY:Eat the Film - Grease
DESCRIPTION:Geniesse Grease mit passenden Speisen, die Filmszenen kulinarisch erlebbar machen - ein interaktives Erlebnis für alle Sinne.\n\nhttps://eventfrog.at/de/p/essen-trinken/eat-the-film-grease-7443314446355681464.html
LOCATION:Pishi
GEO:47.344570;7.918516
URL:https://eventfrog.at/de/p/essen-trinken/eat-the-film-grease-7443314446355681464.html
END:VEVENT
END:VCALENDAR