BEGIN:VCALENDAR
VERSION:2.0
PRODID:EVENTFROG//EVENT//ICAL
BEGIN:VEVENT
UID:20260422T084904Z-7443305952575548185@eventfrog.at
DTSTAMP:20260422T084904Z
DTSTART:20260624T113000Z
DTEND:20260624T153000Z
SUMMARY:Ecoprint auf Papier - mit Farbdecke im Dampf gegart
DESCRIPTION:Das erwartet dich: \n- Einführung in die Technik des Ecoprints auf Papier\n- Arbeiten mit Pflanzen und Naturfarben\n- Gestalten von eigenen Papieren\n- Experimentieren mit verschiedenen Techniken\n\nhttps://eventfrog.at/de/p/kurse-seminare/freizeit-hobby/ecoprint-auf-papier-mit-farbdecke-im-dampf-gegart-7443305952575548185.html
LOCATION:Atelier Natur Pur, Staad 1
GEO:46.845122;7.153674
URL:https://eventfrog.at/de/p/kurse-seminare/freizeit-hobby/ecoprint-auf-papier-mit-farbdecke-im-dampf-gegart-7443305952575548185.html
END:VEVENT
END:VCALENDAR