BEGIN:VCALENDAR
VERSION:2.0
PRODID:EVENTFROG//EVENT//ICAL
BEGIN:VEVENT
UID:20260422T083412Z-7443270284851867052@eventfrog.at
DTSTAMP:20260422T083412Z
DTSTART:20260506T113000Z
DTEND:20260506T153000Z
SUMMARY:Kleider upcyclen in der Indigoküpe
DESCRIPTION:Das erwartet dich: \n- Einführung in das Färben mit Indigo\n- Arbeiten mit der Indigoküpe\n- Upcycling von eigenen Kleidungsstücken\n- Verschiedene Falt- und Reservetechniken\n\nhttps://eventfrog.at/de/p/kurse-seminare/freizeit-hobby/kleider-upcyclen-in-der-indigokuepe-7443270284851867052.html
LOCATION:Atelier Natur Pur, Staad 1
GEO:46.845122;7.153674
URL:https://eventfrog.at/de/p/kurse-seminare/freizeit-hobby/kleider-upcyclen-in-der-indigokuepe-7443270284851867052.html
END:VEVENT
END:VCALENDAR