BEGIN:VCALENDAR
VERSION:2.0
PRODID:EVENTFROG//EVENT//ICAL
BEGIN:VEVENT
UID:20260422T061051Z-7443244444613109246@eventfrog.at
DTSTAMP:20260422T061051Z
DTSTART:20260422T113000Z
DTEND:20260422T153000Z
SUMMARY:Einführungskurs: Blau färben in der Indigoküpe
DESCRIPTION:Das erwartet dich: \n- Einführung in das Färben mit Indigo\n- Kennenlernen der Indigoküpe\n- Verschiedene Falt- und Reservetechniken\n- Gestalten von eigenen Stoffstücken\n\nhttps://eventfrog.at/de/p/kurse-seminare/freizeit-hobby/einfuehrungskurs-blau-faerben-in-der-indigokuepe-7443244444613109246.html
LOCATION:Atelier Natur Pur, Staad 1
GEO:46.845122;7.153674
URL:https://eventfrog.at/de/p/kurse-seminare/freizeit-hobby/einfuehrungskurs-blau-faerben-in-der-indigokuepe-7443244444613109246.html
END:VEVENT
END:VCALENDAR