BEGIN:VCALENDAR
VERSION:2.0
PRODID:EVENTFROG//EVENT//ICAL
BEGIN:VEVENT
UID:20260422T033949Z-7443193866105143975@eventfrog.at
DTSTAMP:20260422T033949Z
DTSTART:20260423T180000Z
SUMMARY:Schnupperprobe Guggemusig Müüs
DESCRIPTION:Schnupperprobe - Informationabend - Guggemusig Müüs\n\nhttps://eventfrog.at/de/p/fasnacht-fasching-karneval/sonstige-veranstaltungen/schnupperprobe-guggemusig-mueues-7443193866105143975.html
LOCATION:Vereinslokal Guggemusig Müüs
GEO:47.348195;7.899735
URL:https://eventfrog.at/de/p/fasnacht-fasching-karneval/sonstige-veranstaltungen/schnupperprobe-guggemusig-mueues-7443193866105143975.html
END:VEVENT
END:VCALENDAR