BEGIN:VCALENDAR
VERSION:2.0
PRODID:EVENTFROG//EVENT//ICAL
BEGIN:VEVENT
UID:20260422T061051Z-7443127294003001009@eventfrog.at
DTSTAMP:20260422T061051Z
DTSTART:20260423T123000Z
DTEND:20260423T160000Z
SUMMARY:60plusDisco
DESCRIPTION:Die 60plusDisco bietet regelmässig in verschiedenen Locations der Ostschweiz altersgerechte Musik und geselliges Beisammensein für Best Ager. Für Menschen über 60.\n\nhttps://eventfrog.at/de/p/partys/pop-rock/60plusdisco-7443127294003001009.html
LOCATION:Weid am Berg Heiden
GEO:47.442811;9.525368
URL:https://eventfrog.at/de/p/partys/pop-rock/60plusdisco-7443127294003001009.html
END:VEVENT
END:VCALENDAR