BEGIN:VCALENDAR
VERSION:2.0
PRODID:EVENTFROG//EVENT//ICAL
BEGIN:VEVENT
UID:20260422T113259Z-7443067524390899212@eventfrog.at
DTSTAMP:20260422T113259Z
DTSTART:20260619T170000Z
DTEND:20260619T200000Z
SUMMARY:MOM & DANCE vol. 5 - Mama in Zug? Mama am Zug!
DESCRIPTION:Die beliebte Zuger MOM & DANCE Party geht in die 5. Runde! Wir öffnen unsere Tore exklusiv für alle Mamis und Frauen!\n\nhttps://eventfrog.at/de/p/partys/charts-open-format/mom-dance-vol-5-mama-in-zug-mama-am-zug-7443067524390899212.html
LOCATION:Lounge & Gallery Zug
GEO:47.177707;8.514409
URL:https://eventfrog.at/de/p/partys/charts-open-format/mom-dance-vol-5-mama-in-zug-mama-am-zug-7443067524390899212.html
END:VEVENT
END:VCALENDAR