BEGIN:VCALENDAR
VERSION:2.0
PRODID:EVENTFROG//EVENT//ICAL
BEGIN:VEVENT
UID:20260422T033948Z-7442993969150075894@eventfrog.at
DTSTAMP:20260422T033948Z
DTSTART:20260423T190000Z
SUMMARY:Occult Hand Order
DESCRIPTION:Le trio lyonnais OCCULT HAND ORDER mêle doom, post-rock et paysages sonores éthérés dans une musique lourde et contemplative.\nEntrée à prix libre/conscient, conseillé 15.- Cash ou Twint\n\nhttps://eventfrog.at/fr/p/concerts/hard-rock-heavy-metal/occult-hand-order-7442993969150075894.html
LOCATION:Le Bout du Monde
GEO:46.458200;6.850970
URL:https://eventfrog.at/fr/p/concerts/hard-rock-heavy-metal/occult-hand-order-7442993969150075894.html
END:VEVENT
END:VCALENDAR