BEGIN:VCALENDAR
VERSION:2.0
PRODID:EVENTFROG//EVENT//ICAL
BEGIN:VEVENT
UID:20260419T130419Z-7442969165621656312@eventfrog.at
DTSTAMP:20260419T130419Z
DTSTART:20260905T120000Z
DTEND:20260905T230000Z
SUMMARY:WALDRANDFEST
DESCRIPTION:Das Fest bietet Kinderunterhaltung, Livemusik, leckeres Essen und Tanz bis in den Abend für die ganze Familie.\n\nhttps://eventfrog.at/de/p/essen-trinken/waldrandfest-7442969165621656312.html
LOCATION:Schützenhaus Grenchen - Bettlach
GEO:47.213022;7.416805
URL:https://eventfrog.at/de/p/essen-trinken/waldrandfest-7442969165621656312.html
END:VEVENT
END:VCALENDAR