BEGIN:VCALENDAR
VERSION:2.0
PRODID:EVENTFROG//EVENT//ICAL
BEGIN:VEVENT
UID:20260422T013157Z-7442939722773584914@eventfrog.at
DTSTAMP:20260422T013157Z
DTSTART:20260515T210000Z
DTEND:20260516T003000Z
SUMMARY:BRAVO HITS PARTY
DESCRIPTION:Stil: Ja Bravo, Hits ohne Ende\nAktuell: Gefühlt gibt es bereits hunderte Bravo-Hits-Compilations, unsere DJs haben sie alle. Mach das mal nach Chuck Norris!\n\nhttps://eventfrog.at/de/p/partys/pop-rock/bravo-hits-party-7442939722773584914.html
LOCATION:Bierhübeli
GEO:46.956272;7.437862
URL:https://eventfrog.at/de/p/partys/pop-rock/bravo-hits-party-7442939722773584914.html
END:VEVENT
END:VCALENDAR