BEGIN:VCALENDAR
VERSION:2.0
PRODID:EVENTFROG//EVENT//ICAL
BEGIN:VEVENT
UID:20260422T013222Z-7442937979474072591@eventfrog.at
DTSTAMP:20260422T013222Z
DTSTART:20260425T210000Z
DTEND:20260426T003000Z
SUMMARY:Viva la Vida Latin & Partytunes
DESCRIPTION:Stil: Latin, Reggaeton, Salsa, Bachata, Party- & Worldbeats\nAktuell: Feiere mit uns das Leben mit exklusiven Shows und einer stilvollen Lounge.\n\n\nhttps://eventfrog.at/de/p/partys/latin-brasil/viva-la-vida-latin-partytunes-7442937979474072591.html
LOCATION:Bierhübeli
GEO:46.956272;7.437862
URL:https://eventfrog.at/de/p/partys/latin-brasil/viva-la-vida-latin-partytunes-7442937979474072591.html
END:VEVENT
END:VCALENDAR