BEGIN:VCALENDAR
VERSION:2.0
PRODID:EVENTFROG//EVENT//ICAL
BEGIN:VEVENT
UID:20260422T060054Z-7442879538852303483@eventfrog.at
DTSTAMP:20260422T060054Z
DTSTART:20260422T123000Z
DTEND:20260422T143000Z
SUMMARY:Walk-in Spiel- und Beratungscafé
DESCRIPTION:Eltern treffen sich mittwochs im caffè e latte zum Austausch über Erziehung und Familienleben in gemütlicher Atmosphäre mit Fachpersonen.\n\nhttps://eventfrog.at/de/p/freizeit-ausfluege/info-event/walk-in-spiel-und-beratungscafe-7442879538852303483.html
LOCATION:familie+
GEO:47.387567;8.169258
URL:https://eventfrog.at/de/p/freizeit-ausfluege/info-event/walk-in-spiel-und-beratungscafe-7442879538852303483.html
END:VEVENT
END:VCALENDAR