BEGIN:VCALENDAR
VERSION:2.0
PRODID:EVENTFROG//EVENT//ICAL
BEGIN:VEVENT
UID:20260422T022828Z-7442878340640293571@eventfrog.at
DTSTAMP:20260422T022828Z
DTSTART:20260614T120000Z
DTEND:20260614T170000Z
SUMMARY:Tourniquet – Das Festival
DESCRIPTION:Das Tourniquet eignet sich bestens, neue Kreationen und Künstler*innen in kompakter Form zu entdecken – und dies in einer entspannten Festivalatmosphäre. Von 12. bis 14. Juni.\n\nhttps://eventfrog.at/de/p/theater-buehne/buehnenveranstaltung/tourniquet-das-festival-7442878340640293571.html
LOCATION:Kunst- und Kulturhaus VISAVIS
GEO:46.948500;7.454302
URL:https://eventfrog.at/de/p/theater-buehne/buehnenveranstaltung/tourniquet-das-festival-7442878340640293571.html
END:VEVENT
END:VCALENDAR