BEGIN:VCALENDAR
VERSION:2.0
PRODID:EVENTFROG//EVENT//ICAL
BEGIN:VEVENT
UID:20260422T055952Z-7442874251755915171@eventfrog.at
DTSTAMP:20260422T055952Z
DTSTART:20260423T160000Z
DTEND:20260423T173000Z
SUMMARY:Visite "afterwork" et dégustation de vins aiglons
DESCRIPTION:Le 23 avril, visite guidée des expositions et dégustation de vins à l'Espace Graffenried dès 18h, entrée libre.\n\nhttps://eventfrog.at/fr/p/art-expositions/autres-evenements-artistiques/visite-afterwork-et-degustation-de-vins-aiglons-7442874251755915171.html
LOCATION:Espace Graffenried
GEO:46.317843;6.969776
URL:https://eventfrog.at/fr/p/art-expositions/autres-evenements-artistiques/visite-afterwork-et-degustation-de-vins-aiglons-7442874251755915171.html
END:VEVENT
END:VCALENDAR