BEGIN:VCALENDAR
VERSION:2.0
PRODID:EVENTFROG//EVENT//ICAL
BEGIN:VEVENT
UID:20260422T154152Z-7442846873356897430@eventfrog.at
DTSTAMP:20260422T154152Z
DTSTART:20260926T160000Z
DTEND:20260926T215900Z
SUMMARY:Metal Night Schützi Olten #4
DESCRIPTION:Primal Fear, Gomorra, King Sable und Blutspiel liefern eine energiegeladene Metal-Nacht in der Schützi.\n\nhttps://eventfrog.at/de/p/konzerte/hard-rock-heavy-metal/metal-night-schuetzi-olten-4-7442846873356897430.html
LOCATION:Kulturzentrum Schützi
GEO:47.348220;7.903000
URL:https://eventfrog.at/de/p/konzerte/hard-rock-heavy-metal/metal-night-schuetzi-olten-4-7442846873356897430.html
END:VEVENT
END:VCALENDAR