BEGIN:VCALENDAR
VERSION:2.0
PRODID:EVENTFROG//EVENT//ICAL
BEGIN:VEVENT
UID:20260419T130319Z-7442838902694493867@eventfrog.at
DTSTAMP:20260419T130319Z
DTSTART:20260425T080000Z
DTEND:20260425T140000Z
SUMMARY:rodania Frühlingsfest
DESCRIPTION:Am 25. April 2026 findet in Grenchen das traditionelle Frühlingsfest der rodania Stiftung statt – mit Festwirtschaft, Produkteverkauf, Kinderaktivitäten und vielem mehr!\n\nhttps://eventfrog.at/de/p/essen-trinken/rodania-fruehlingsfest-7442838902694493867.html
LOCATION:rodania Stiftung
GEO:47.188579;7.399704
URL:https://eventfrog.at/de/p/essen-trinken/rodania-fruehlingsfest-7442838902694493867.html
END:VEVENT
END:VCALENDAR