BEGIN:VCALENDAR
VERSION:2.0
PRODID:EVENTFROG//EVENT//ICAL
BEGIN:VEVENT
UID:20260422T060113Z-7442832466685994348@eventfrog.at
DTSTAMP:20260422T060113Z
DTSTART:20260422T121500Z
DTEND:20260422T124500Z
SUMMARY:Gschichtäschtund mit Madlen
DESCRIPTION:In der "Gschichtäschtund" erzählt Madlen Arnold eine spannende und lustige Geschichte in Dialekt.\n\nhttps://eventfrog.at/de/p/kinderveranstaltungen/familienveranstaltungen/gschichtaeschtund-mit-madlen-7442832466685994348.html
LOCATION:Kantonsbibliothek Uri
GEO:46.880938;8.641178
URL:https://eventfrog.at/de/p/kinderveranstaltungen/familienveranstaltungen/gschichtaeschtund-mit-madlen-7442832466685994348.html
END:VEVENT
END:VCALENDAR