BEGIN:VCALENDAR
VERSION:2.0
PRODID:EVENTFROG//EVENT//ICAL
BEGIN:VEVENT
UID:20260423T160054Z-7442707600175556311@eventfrog.at
DTSTAMP:20260423T160054Z
DTSTART:20260911T173000Z
DTEND:20260911T190000Z
SUMMARY:Lesung: Urs Habegger "Am Rande mittendrin, Erlebnisse eines
DESCRIPTION:Lesung: Urs Habegger "Am Rande mittendrin, Erlebnisse eines Surprise-Verkäufers"\n\nhttps://eventfrog.at/de/p/theater-buehne/lesung-urs-habegger-am-rande-mittendrin-erlebnisse-eines-7442707600175556311.html
LOCATION:Hänggiturm
GEO:46.993948;9.077644
URL:https://eventfrog.at/de/p/theater-buehne/lesung-urs-habegger-am-rande-mittendrin-erlebnisse-eines-7442707600175556311.html
END:VEVENT
END:VCALENDAR