BEGIN:VCALENDAR
VERSION:2.0
PRODID:EVENTFROG//EVENT//ICAL
BEGIN:VEVENT
UID:20260422T014007Z-7442617242380939130@eventfrog.at
DTSTAMP:20260422T014007Z
DTSTART:20260522T180000Z
DTEND:20260522T200000Z
SUMMARY:It Goes On - A Song Cycle for Voice and String Quartet
DESCRIPTION:An intimate song cycle for voice and string quartet, setting original music to the poetry of Robert Frost, Emily Dickinson, E. E. Cummings and others.  May 22nd 8:00 p.m.\n\nhttps://eventfrog.at/de/p/konzerte/weitere-musikrichtungen/it-goes-on-a-song-cycle-for-voice-and-string-quartet-7442617242380939130.html
LOCATION:Kunst- und Kulturhaus VISAVIS
GEO:46.948500;7.454302
URL:https://eventfrog.at/de/p/konzerte/weitere-musikrichtungen/it-goes-on-a-song-cycle-for-voice-and-string-quartet-7442617242380939130.html
END:VEVENT
END:VCALENDAR