BEGIN:VCALENDAR
VERSION:2.0
PRODID:EVENTFROG//EVENT//ICAL
BEGIN:VEVENT
UID:20260422T022827Z-7442605848235383470@eventfrog.at
DTSTAMP:20260422T022827Z
DTSTART:20260514T120000Z
DTEND:20260514T170000Z
SUMMARY:RechtsLinksLinksRechtsBlabla – AUSSTELLUNG – Bersy Suárez
DESCRIPTION:RechtsLinksLinksRechtsBlabla – AUSSTELLUNG  Ausstellung mit Werken der Künstlerin Bersy Suárez.\n\n 2. bis 30. Mai 2026. Dachsartgalerie, Postgasse 34 , 3011 Bern\n\n\nhttps://eventfrog.at/de/p/kunst-ausstellungen/ausstellung/rechtslinkslinksrechtsblabla-ausstellung-bersy-suarez-7442605848235383470.html
LOCATION:Dachsartgalerie
GEO:46.949024;7.454784
URL:https://eventfrog.at/de/p/kunst-ausstellungen/ausstellung/rechtslinkslinksrechtsblabla-ausstellung-bersy-suarez-7442605848235383470.html
END:VEVENT
END:VCALENDAR