BEGIN:VCALENDAR
VERSION:2.0
PRODID:EVENTFROG//EVENT//ICAL
BEGIN:VEVENT
UID:20260422T022901Z-7442605847723678354@eventfrog.at
DTSTAMP:20260422T022901Z
DTSTART:20260502T090000Z
DTEND:20260502T150000Z
SUMMARY:RechtsLinksLinksRechtsBlabla – AUSSTELLUNG – Bersy Suárez
DESCRIPTION:RechtsLinksLinksRechtsBlabla – AUSSTELLUNG  Ausstellung mit Werken der Künstlerin Bersy Suárez.\n\n 2. bis 30. Mai 2026. Dachsartgalerie, Postgasse 34 , 3011 Bern\n\n\nhttps://eventfrog.at/de/p/kunst-ausstellungen/ausstellung/rechtslinkslinksrechtsblabla-ausstellung-bersy-suarez-7442605847723678354.html
LOCATION:Dachsartgalerie
GEO:46.949024;7.454784
URL:https://eventfrog.at/de/p/kunst-ausstellungen/ausstellung/rechtslinkslinksrechtsblabla-ausstellung-bersy-suarez-7442605847723678354.html
END:VEVENT
END:VCALENDAR