BEGIN:VCALENDAR
VERSION:2.0
PRODID:EVENTFROG//EVENT//ICAL
BEGIN:VEVENT
UID:20260422T055856Z-7442581231756146036@eventfrog.at
DTSTAMP:20260422T055856Z
DTSTART:20261217T170000Z
DTEND:20261217T190000Z
SUMMARY:Raum für Resonanz - mit Atmung zur Regeneration
DESCRIPTION:Mit sanften Atem-, Achtsamkeits- und Körperübungen wird die Verbindung zum eigenen Körper gestärkt.\n\nhttps://eventfrog.at/de/p/gesundheit-spiritualitaet/gesundheit-wohlbefinden/raum-fuer-resonanz-mit-atmung-zur-regeneration-7442581231756146036.html
LOCATION:OM ni PRESENT Yoga
GEO:46.751416;7.621010
URL:https://eventfrog.at/de/p/gesundheit-spiritualitaet/gesundheit-wohlbefinden/raum-fuer-resonanz-mit-atmung-zur-regeneration-7442581231756146036.html
END:VEVENT
END:VCALENDAR