BEGIN:VCALENDAR
VERSION:2.0
PRODID:EVENTFROG//EVENT//ICAL
BEGIN:VEVENT
UID:20260422T055947Z-7442581231563208050@eventfrog.at
DTSTAMP:20260422T055947Z
DTSTART:20261126T170000Z
DTEND:20261126T190000Z
SUMMARY:Raum für Resonanz - mit Atmung zur Regeneration
DESCRIPTION:Mit sanften Atem-, Achtsamkeits- und Körperübungen wird die Verbindung zum eigenen Körper gestärkt.\n\nhttps://eventfrog.at/de/p/gesundheit-spiritualitaet/gesundheit-wohlbefinden/raum-fuer-resonanz-mit-atmung-zur-regeneration-7442581231563208050.html
LOCATION:OM ni PRESENT Yoga
GEO:46.751416;7.621010
URL:https://eventfrog.at/de/p/gesundheit-spiritualitaet/gesundheit-wohlbefinden/raum-fuer-resonanz-mit-atmung-zur-regeneration-7442581231563208050.html
END:VEVENT
END:VCALENDAR