BEGIN:VCALENDAR
VERSION:2.0
PRODID:EVENTFROG//EVENT//ICAL
BEGIN:VEVENT
UID:20260422T154144Z-7442577168779987056@eventfrog.at
DTSTAMP:20260422T154144Z
DTSTART:20260715T113000Z
DTEND:20260715T121500Z
SUMMARY:Ferienspecial im Naturmuseum
DESCRIPTION:Jeden Mittwochnachmittag tauchen Kinder, Jugendliche und Erwachsene gemeinsam mit dem Museumsteam in faszinierende biologische, historische oder archäologische Themen ein.\n\nhttps://eventfrog.at/de/p/diverses/ferienspecial-im-naturmuseum-7442577168779987056.html
LOCATION:Haus der Museen
GEO:47.350498;7.901043
URL:https://eventfrog.at/de/p/diverses/ferienspecial-im-naturmuseum-7442577168779987056.html
END:VEVENT
END:VCALENDAR