BEGIN:VCALENDAR
VERSION:2.0
PRODID:EVENTFROG//EVENT//ICAL
BEGIN:VEVENT
UID:20260422T061051Z-7442570396891641338@eventfrog.at
DTSTAMP:20260422T061051Z
DTSTART:20260422T173000Z
DTEND:20260422T203000Z
SUMMARY:Simulant
DESCRIPTION:Seniorenbühne Theater "Simulant" 2026\n\nhttps://eventfrog.at/de/p/theater-buehne/theater/simulant-7442570396891641338.html
LOCATION:Zeughaus Kultur
GEO:46.313633;7.984046
URL:https://eventfrog.at/de/p/theater-buehne/theater/simulant-7442570396891641338.html
END:VEVENT
END:VCALENDAR