BEGIN:VCALENDAR
VERSION:2.0
PRODID:EVENTFROG//EVENT//ICAL
BEGIN:VEVENT
UID:20260422T113303Z-7442565487802748258@eventfrog.at
DTSTAMP:20260422T113303Z
DTSTART:20260920T110000Z
DTEND:20260920T150000Z
SUMMARY:Offenes Dackelrennen 2026
DESCRIPTION:Alle Dackel, ob jung oder alt, Zwerg oder Maxi, mit oder ohne Stammbaum, sind herzlich willkommen an diesem Dackelrennen mitzumachen! \nZiel ist es, eine gute Zeit mit viel Spass zu haben!\n\nhttps://eventfrog.at/de/p/diverses/offenes-dackelrennen-2026-7442565487802748258.html
LOCATION:Hunderennbahn
GEO:47.240696;8.510214
URL:https://eventfrog.at/de/p/diverses/offenes-dackelrennen-2026-7442565487802748258.html
END:VEVENT
END:VCALENDAR