BEGIN:VCALENDAR
VERSION:2.0
PRODID:EVENTFROG//EVENT//ICAL
BEGIN:VEVENT
UID:20260422T154148Z-7442554370929995433@eventfrog.at
DTSTAMP:20260422T154148Z
DTSTART:20260603T173000Z
DTEND:20260603T183000Z
SUMMARY:Vortrag «Überreste des Mammuts in der Nordwestschweiz»
DESCRIPTION:Öffentlicher Vortrag mit Dr. Heinz Furrer, Paläontologe, Mammutmuseum Niederweningen. Der Eintritt zum Vortrag ist frei.\n\nhttps://eventfrog.at/de/p/fuehrungen-vortraege/vortrag/vortrag-ueberreste-des-mammuts-in-der-nordwestschweiz-7442554370929995433.html
LOCATION:Haus der Museen
GEO:47.350498;7.901043
URL:https://eventfrog.at/de/p/fuehrungen-vortraege/vortrag/vortrag-ueberreste-des-mammuts-in-der-nordwestschweiz-7442554370929995433.html
END:VEVENT
END:VCALENDAR