BEGIN:VCALENDAR
VERSION:2.0
PRODID:EVENTFROG//EVENT//ICAL
BEGIN:VEVENT
UID:20260422T022829Z-7442529816463549728@eventfrog.at
DTSTAMP:20260422T022829Z
DTSTART:20260525T160000Z
DTEND:20260525T170000Z
SUMMARY:Unbalanced Tanz Workshops
DESCRIPTION:Zusammen mit Tänzerin und Choreografin Beatrice Castaldo arbeiten die Teilnehmer*innen an sieben Workshops mit Bewegungen, die sich natürlich anfühlen. Jeweils montags (13. April-25.Mai)\n\nhttps://eventfrog.at/de/p/kunst-ausstellungen/ausstellung/unbalanced-tanz-workshops-7442529816463549728.html
LOCATION:Kunst- und Kulturhaus VISAVIS
GEO:46.948500;7.454302
URL:https://eventfrog.at/de/p/kunst-ausstellungen/ausstellung/unbalanced-tanz-workshops-7442529816463549728.html
END:VEVENT
END:VCALENDAR