BEGIN:VCALENDAR
VERSION:2.0
PRODID:EVENTFROG//EVENT//ICAL
BEGIN:VEVENT
UID:20260422T113303Z-7442479174407745569@eventfrog.at
DTSTAMP:20260422T113303Z
DTSTART:20271112T190000Z
SUMMARY:Stéphanie Berger – Shine – Fertig mit Chli!
DESCRIPTION:Stéphanie Berger präsentiert ihr neues Programm «Shine - Fertig mit Chli!» - humorvoll, tiefgründig und voll Energie.\n\nhttps://eventfrog.at/de/p/theater-buehne/comedy-kabarett/stephanie-berger-shine-fertig-mit-chli-7442479174407745569.html
LOCATION:Chollerhalle Zug
GEO:47.181587;8.483803
URL:https://eventfrog.at/de/p/theater-buehne/comedy-kabarett/stephanie-berger-shine-fertig-mit-chli-7442479174407745569.html
END:VEVENT
END:VCALENDAR