BEGIN:VCALENDAR
VERSION:2.0
PRODID:EVENTFROG//EVENT//ICAL
BEGIN:VEVENT
UID:20260422T013222Z-7442229848238460212@eventfrog.at
DTSTAMP:20260422T013222Z
DTSTART:20260519T173000Z
SUMMARY:WORTORT: Odilo Abgottspon - «Die Titscha»
DESCRIPTION:Eine Lesung mit Odilo Abgottspon zu seinem Roman "Die Titscha".\n\nhttps://eventfrog.at/de/p/kunst-ausstellungen/kultur/wortort-odilo-abgottspon-die-titscha-7442229848238460212.html
LOCATION:PROGR
GEO:46.950069;7.443947
URL:https://eventfrog.at/de/p/kunst-ausstellungen/kultur/wortort-odilo-abgottspon-die-titscha-7442229848238460212.html
END:VEVENT
END:VCALENDAR