BEGIN:VCALENDAR
VERSION:2.0
PRODID:EVENTFROG//EVENT//ICAL
BEGIN:VEVENT
UID:20260422T033948Z-7442223949444827360@eventfrog.at
DTSTAMP:20260422T033948Z
DTSTART:20260423T164500Z
DTEND:20260423T193000Z
SUMMARY:Leerkündigungen in Kloten - was bedeutet das?
DESCRIPTION:Was bedeuten Leerkündigungen für Kloten? Wie kann man sich dagegen schützen? Eine Infoveranstaltung vom Mieterinnen- und Mieterverband Zürich zur Kündigungswelle im Kanton.\n\n\nhttps://eventfrog.at/de/p/politik-gemeinde/politik/leerkuendigungen-in-kloten-was-bedeutet-das-7442223949444827360.html
LOCATION:Konferenzzentrum Schluefweg
GEO:47.443987;8.582463
URL:https://eventfrog.at/de/p/politik-gemeinde/politik/leerkuendigungen-in-kloten-was-bedeutet-das-7442223949444827360.html
END:VEVENT
END:VCALENDAR