BEGIN:VCALENDAR
VERSION:2.0
PRODID:EVENTFROG//EVENT//ICAL
BEGIN:VEVENT
UID:20260422T060059Z-7442212420087476114@eventfrog.at
DTSTAMP:20260422T060059Z
DTSTART:20260623T080000Z
DTEND:20260623T150000Z
SUMMARY:Frauen – Weibliche Lebenswelten im Mittelalter
DESCRIPTION:Sommerausstellung in der Stiftsbibliothek St.Gallen zeigt vom 21. April bis 8. November 2026 die Vielfalt mittelalterlicher Frauenleben.\n\nhttps://eventfrog.at/de/p/kunst-ausstellungen/ausstellung/frauen-weibliche-lebenswelten-im-mittelalter-7442212420087476114.html
LOCATION:Stiftsbibliothek St.Gallen
GEO:47.423210;9.377254
URL:https://eventfrog.at/de/p/kunst-ausstellungen/ausstellung/frauen-weibliche-lebenswelten-im-mittelalter-7442212420087476114.html
END:VEVENT
END:VCALENDAR