BEGIN:VCALENDAR
VERSION:2.0
PRODID:EVENTFROG//EVENT//ICAL
BEGIN:VEVENT
UID:20260423T155421Z-7442205709993831144@eventfrog.at
DTSTAMP:20260423T155421Z
DTSTART:20260510T073000Z
SUMMARY:Muttertagsbrunch
DESCRIPTION:Am Sonntag, 10. Mai, verwöhnen wir Sie mit einem reichhaltigen Brunchbuffet. Alle Frauen werden bei ihrer Ankunft mit einem Glas Prosecco überrascht. Zusätzlich erhalten sie ein Los, mit dem sie eine \n\nhttps://eventfrog.at/de/p/essen-trinken/muttertagsbrunch-7442205709993831144.html
LOCATION:Lintharena
GEO:47.108094;9.065551
URL:https://eventfrog.at/de/p/essen-trinken/muttertagsbrunch-7442205709993831144.html
END:VEVENT
END:VCALENDAR