BEGIN:VCALENDAR
VERSION:2.0
PRODID:EVENTFROG//EVENT//ICAL
BEGIN:VEVENT
UID:20260422T045308Z-7442195854159530860@eventfrog.at
DTSTAMP:20260422T045308Z
DTSTART:20260430T180000Z
SUMMARY:LE PETIT MONDE
DESCRIPTION:On ne peut pas affronter la nuit avant d'avoir compris ce qui se cache dans ses ténèbres (Charles de Lint). Une comédie sur l'incertitude largement inspirée de faits irréels...\n\nhttps://eventfrog.at/fr/p/theatre-scene/theatre/le-petit-monde-7442195854159530860.html
LOCATION:Théâtre Silo du Lac
GEO:46.528545;6.590170
URL:https://eventfrog.at/fr/p/theatre-scene/theatre/le-petit-monde-7442195854159530860.html
END:VEVENT
END:VCALENDAR