BEGIN:VCALENDAR
VERSION:2.0
PRODID:EVENTFROG//EVENT//ICAL
BEGIN:VEVENT
UID:20260422T060618Z-7442194670216597736@eventfrog.at
DTSTAMP:20260422T060618Z
DTSTART:20260422T180000Z
SUMMARY:Pères
DESCRIPTION:Texte  : D’après plusieurs autrices, mise en scène : Lefki Papachrysostomou, jeu : Dimitri Anzules, Angelo Dell’Aquila, Serge Martin et Jef Saintmartin.\n\nhttps://eventfrog.at/fr/p/theatre-scene/theatre/peres-7442194670216597736.html
LOCATION:Théâtricul
GEO:46.193788;6.196439
URL:https://eventfrog.at/fr/p/theatre-scene/theatre/peres-7442194670216597736.html
END:VEVENT
END:VCALENDAR