BEGIN:VCALENDAR
VERSION:2.0
PRODID:EVENTFROG//EVENT//ICAL
BEGIN:VEVENT
UID:20260422T112653Z-7442174937790418473@eventfrog.at
DTSTAMP:20260422T112653Z
DTSTART:20260711T070000Z
DTEND:20260711T143000Z
SUMMARY:NATURENA: Acryl-/Mischtechnik - Waldstimmung
DESCRIPTION:Acrylmalerei-Workshop fängt den Zauber des Waldes im Morgenlicht auf der Leinwand lebendig ein.\n\nhttps://eventfrog.at/de/p/kurse-seminare/freizeit-hobby/naturena-acryl-mischtechnik-waldstimmung-7442174937790418473.html
LOCATION:Volg Erlebnishof Zugerland
GEO:47.207505;8.538940
URL:https://eventfrog.at/de/p/kurse-seminare/freizeit-hobby/naturena-acryl-mischtechnik-waldstimmung-7442174937790418473.html
END:VEVENT
END:VCALENDAR