BEGIN:VCALENDAR
VERSION:2.0
PRODID:EVENTFROG//EVENT//ICAL
BEGIN:VEVENT
UID:20260422T113258Z-7442148399527278199@eventfrog.at
DTSTAMP:20260422T113258Z
DTSTART:20260531T060000Z
DTEND:20260531T150000Z
SUMMARY:Zuger Kantonaler Jugitag 2026
DESCRIPTION:Beim 52. Zuger Kantonalen Jugitag messen sich 900 Kinder und Jugendliche in Leichtathletik, Turnen und Gruppenwettkämpfen.\n\nhttps://eventfrog.at/de/p/sport-fitness/turnen/zuger-kantonaler-jugitag-2026-7442148399527278199.html
LOCATION:Sportpark Rotkreuz
GEO:47.141830;8.432677
URL:https://eventfrog.at/de/p/sport-fitness/turnen/zuger-kantonaler-jugitag-2026-7442148399527278199.html
END:VEVENT
END:VCALENDAR