BEGIN:VCALENDAR
VERSION:2.0
PRODID:EVENTFROG//EVENT//ICAL
BEGIN:VEVENT
UID:20260422T044115Z-7442147446099060966@eventfrog.at
DTSTAMP:20260422T044115Z
DTSTART:20260423T150000Z
SUMMARY:Checkliste für die Pensionierung
DESCRIPTION:Gratis Veranstaltung zu finanziellen, rechtlichen und sozialen Aspekten der Pensionierung mit Übersetzung in sechs Sprachen.\n\nhttps://eventfrog.at/de/p/fuehrungen-vortraege/vortrag/checkliste-fuer-die-pensionierung-7442147446099060966.html
LOCATION:Reformiertes Kirchgemeindehaus
GEO:47.559592;7.802178
URL:https://eventfrog.at/de/p/fuehrungen-vortraege/vortrag/checkliste-fuer-die-pensionierung-7442147446099060966.html
END:VEVENT
END:VCALENDAR