BEGIN:VCALENDAR
VERSION:2.0
PRODID:EVENTFROG//EVENT//ICAL
BEGIN:VEVENT
UID:20260422T013219Z-7441927110988459692@eventfrog.at
DTSTAMP:20260422T013219Z
DTSTART:20260524T200000Z
DTEND:20260525T030000Z
SUMMARY:SOLID DARK x SOUS SOUL
DESCRIPTION:Solid Dark kehrt ins Sous Soul zurück! Kompromissloser Techno mit Ilona Maras sowie David Kawka, Dee Jota, Kadric, Kai Uner, Kevqube & Marcus Ruprecht. High Energy die ganze Nacht.\n\nhttps://eventfrog.at/de/p/partys/house-techno/solid-dark-x-sous-soul-7441927110988459692.html
LOCATION:SOUS SOUL
GEO:46.948336;7.443078
URL:https://eventfrog.at/de/p/partys/house-techno/solid-dark-x-sous-soul-7441927110988459692.html
END:VEVENT
END:VCALENDAR