BEGIN:VCALENDAR
VERSION:2.0
PRODID:EVENTFROG//EVENT//ICAL
BEGIN:VEVENT
UID:20260422T013222Z-7441869930889266912@eventfrog.at
DTSTAMP:20260422T013222Z
DTSTART:20260430T173000Z
SUMMARY:Buch-Taufe: Demokratie auf der Streckbank
DESCRIPTION:Charlotte Sieber-Gasser diskutiert in der Vernissage ihr Buch zu Globalisierung und Demokratie in der Schweiz mit Slam Poetry und Kurzfilm.\n\nhttps://eventfrog.at/de/p/diverses/buch-taufe-demokratie-auf-der-streckbank-7441869930889266912.html
LOCATION:Cinématte
GEO:46.946528;7.456345
URL:https://eventfrog.at/de/p/diverses/buch-taufe-demokratie-auf-der-streckbank-7441869930889266912.html
END:VEVENT
END:VCALENDAR