BEGIN:VCALENDAR
VERSION:2.0
PRODID:EVENTFROG//EVENT//ICAL
BEGIN:VEVENT
UID:20260422T113258Z-7441830517677281031@eventfrog.at
DTSTAMP:20260422T113258Z
DTSTART:20260509T120000Z
DTEND:20260509T130000Z
SUMMARY:Mehr (Performance)
DESCRIPTION:"Mehr". Performance an der Gruppenausstellung von Sam Heller, Tirza Matter, David Herren, Fabienne Lengweiler. Multimediale Installationen.\n\nhttps://eventfrog.at/de/p/kunst-ausstellungen/ausstellung/mehr-performance-7441830517677281031.html
LOCATION:KunstCluster Zug
GEO:47.179904;8.522729
URL:https://eventfrog.at/de/p/kunst-ausstellungen/ausstellung/mehr-performance-7441830517677281031.html
END:VEVENT
END:VCALENDAR