BEGIN:VCALENDAR
VERSION:2.0
PRODID:EVENTFROG//EVENT//ICAL
BEGIN:VEVENT
UID:20260422T112632Z-7441829073817454540@eventfrog.at
DTSTAMP:20260422T112632Z
DTSTART:20260507T160000Z
DTEND:20260507T200000Z
SUMMARY:Vernissage Kunstausstellung "Mehr"
DESCRIPTION:"Mehr". Gruppenausstellung von Sam Heller, Tirza Matter, David Herren, Fabienne Lengweiler. Multimediale Installationen.\n\nhttps://eventfrog.at/de/p/kunst-ausstellungen/vernissage/vernissage-kunstausstellung-mehr-7441829073817454540.html
LOCATION:KunstCluster Zug
GEO:47.179904;8.522729
URL:https://eventfrog.at/de/p/kunst-ausstellungen/vernissage/vernissage-kunstausstellung-mehr-7441829073817454540.html
END:VEVENT
END:VCALENDAR