BEGIN:VCALENDAR
VERSION:2.0
PRODID:EVENTFROG//EVENT//ICAL
BEGIN:VEVENT
UID:20260422T113259Z-7441824231287951357@eventfrog.at
DTSTAMP:20260422T113259Z
DTSTART:20260627T200000Z
DTEND:20260726T200000Z
SUMMARY:Zug Magic
DESCRIPTION:Magische Momente am See, spektakuläre Wasser und Lichtspiele unterlegt mit passender Musik. \n\nhttps://eventfrog.at/de/p/freizeit-ausfluege/sonstige-veranstaltungen/zug-magic-7441824231287951357.html
LOCATION:Rössliwiese, Zug
GEO:47.168651;8.514432
URL:https://eventfrog.at/de/p/freizeit-ausfluege/sonstige-veranstaltungen/zug-magic-7441824231287951357.html
END:VEVENT
END:VCALENDAR