BEGIN:VCALENDAR
VERSION:2.0
PRODID:EVENTFROG//EVENT//ICAL
BEGIN:VEVENT
UID:20260422T111833Z-7441822851940806670@eventfrog.at
DTSTAMP:20260422T111833Z
DTSTART:20260627T110000Z
SUMMARY:Zuger Seefest
DESCRIPTION:Die Zuger Seepromenade verwandelt sich in den schönsten Treffpunkt des Sommers. Einmal mehr der Treffpunkt für die Zugerinnen und Zuger.\n\nhttps://eventfrog.at/de/p/festivals/weitere-festivals/zuger-seefest-7441822851940806670.html
LOCATION:Bundesplatz
GEO:47.171253;8.514304
URL:https://eventfrog.at/de/p/festivals/weitere-festivals/zuger-seefest-7441822851940806670.html
END:VEVENT
END:VCALENDAR