BEGIN:VCALENDAR
VERSION:2.0
PRODID:EVENTFROG//EVENT//ICAL
BEGIN:VEVENT
UID:20260422T013156Z-7441815668029175665@eventfrog.at
DTSTAMP:20260422T013156Z
DTSTART:20260508T180000Z
DTEND:20260508T213000Z
SUMMARY:TONTON
DESCRIPTION:TONTON bietet eine Bühne für improvisierte Live-Sets. Wir freuen wir uns auf Junge Eko & Hora Lunga, Marie Delprat & Jonas Fehr und auf die Performance von Minami Saeki​​​​​​​.\n\nhttps://eventfrog.at/de/p/konzerte/weitere-musikrichtungen/tonton-7441815668029175665.html
LOCATION:Buffet Nord
GEO:46.946667;7.391227
URL:https://eventfrog.at/de/p/konzerte/weitere-musikrichtungen/tonton-7441815668029175665.html
END:VEVENT
END:VCALENDAR