BEGIN:VCALENDAR
VERSION:2.0
PRODID:EVENTFROG//EVENT//ICAL
BEGIN:VEVENT
UID:20260422T013158Z-7441808860434704193@eventfrog.at
DTSTAMP:20260422T013158Z
DTSTART:20260605T130000Z
DTEND:20260607T170000Z
SUMMARY:True Story Festival 2026
DESCRIPTION:Das True Story Festival präsentiert 45 Reporter:innen aus 25 Ländern, die Einblicke in ihre weltweiten Recherchen und Geschichten geben. Kostenlose Eintrittskarten verfügbar.\n\nhttps://eventfrog.at/de/p/festivals/kunst-kultur/true-story-festival-2026-7441808860434704193.html
LOCATION:Bern
GEO:46.947117;7.444228
URL:https://eventfrog.at/de/p/festivals/kunst-kultur/true-story-festival-2026-7441808860434704193.html
END:VEVENT
END:VCALENDAR