BEGIN:VCALENDAR
VERSION:2.0
PRODID:EVENTFROG//EVENT//ICAL
BEGIN:VEVENT
UID:20260422T022829Z-7441707360282745213@eventfrog.at
DTSTAMP:20260422T022829Z
DTSTART:20260918T120000Z
DTEND:20260918T150000Z
SUMMARY:Tanzen in Bethlehem
DESCRIPTION:«Tanzen in Bethlehem» lädt im Quartierzentrum Tscharnergut zu einem Tanznachmittag mit Livemusik in gemütlicher Atmosphäre ein.\n\nhttps://eventfrog.at/de/p/partys/disco/tanzen-in-bethlehem-7441707360282745213.html
LOCATION:Quartierzentrum im Tscharnergut
GEO:46.948580;7.389335
URL:https://eventfrog.at/de/p/partys/disco/tanzen-in-bethlehem-7441707360282745213.html
END:VEVENT
END:VCALENDAR