BEGIN:VCALENDAR
VERSION:2.0
PRODID:EVENTFROG//EVENT//ICAL
BEGIN:VEVENT
UID:20260422T112552Z-7441520855266406286@eventfrog.at
DTSTAMP:20260422T112552Z
DTSTART:20260424T080000Z
DTEND:20260424T100000Z
SUMMARY:Farben verstehen & bewusst mischen – Malkurs für Erwachsene
DESCRIPTION:Kurs für Erwachsene vermittelt über vier Sitzungen bewusstes Farbmischen und harmonische Farbkomposition im kleinen Atelierkreis.\n\n\nhttps://eventfrog.at/de/p/kurse-seminare/kunst-kultur/farben-verstehen-bewusst-mischen-malkurs-fuer-erwachsene-7441520855266406286.html
LOCATION:Langhuus Kulturfabrik Cham
GEO:47.185132;8.459231
URL:https://eventfrog.at/de/p/kurse-seminare/kunst-kultur/farben-verstehen-bewusst-mischen-malkurs-fuer-erwachsene-7441520855266406286.html
END:VEVENT
END:VCALENDAR