BEGIN:VCALENDAR
VERSION:2.0
PRODID:EVENTFROG//EVENT//ICAL
BEGIN:VEVENT
UID:20260422T013222Z-7441442625368897900@eventfrog.at
DTSTAMP:20260422T013222Z
DTSTART:20260425T173000Z
SUMMARY:Jazzchor Freiburg - Sacred
DESCRIPTION:Grögers Finale-Tour: Der Pionier der Jazzchöre Bertrand Gröger verabschiedet sich mit dem a-cappella Programm „Sacred" von seiner Tätigkeit als künstlerischer Leiter des Jazzchor Freiburg.\n\nhttps://eventfrog.at/de/p/konzerte/a-cappella-vocal/jazzchor-freiburg-sacred-7441442625368897900.html
LOCATION:Heiliggeistkirche
GEO:46.947926;7.440783
URL:https://eventfrog.at/de/p/konzerte/a-cappella-vocal/jazzchor-freiburg-sacred-7441442625368897900.html
END:VEVENT
END:VCALENDAR