BEGIN:VCALENDAR
VERSION:2.0
PRODID:EVENTFROG//EVENT//ICAL
BEGIN:VEVENT
UID:20260419T130419Z-7441415159711566326@eventfrog.at
DTSTAMP:20260419T130419Z
DTSTART:20260509T120000Z
DTEND:20260509T150000Z
SUMMARY:Malkurs Abstrakt
DESCRIPTION:Im Malkurs Abstrakt entdecken Teilnehmende neue Bildformen und experimentieren mit interessanten Kontrasten.\n\nhttps://eventfrog.at/de/p/diverses/malkurs-abstrakt-7441415159711566326.html
LOCATION:Atelier Malkurse Elisa Sadeghi
GEO:47.199108;7.385606
URL:https://eventfrog.at/de/p/diverses/malkurs-abstrakt-7441415159711566326.html
END:VEVENT
END:VCALENDAR